BEGIN:VCALENDAR
VERSION:2.0
PRODID:-//PLS - ECPv6.15.17.1//NONSGML v1.0//EN
CALSCALE:GREGORIAN
METHOD:PUBLISH
X-WR-CALNAME:PLS
X-ORIGINAL-URL:https://www.pls.lu
X-WR-CALDESC:Events for PLS
REFRESH-INTERVAL;VALUE=DURATION:PT1H
X-Robots-Tag:noindex
X-PUBLISHED-TTL:PT1H
BEGIN:VTIMEZONE
TZID:UTC
BEGIN:STANDARD
TZOFFSETFROM:+0000
TZOFFSETTO:+0000
TZNAME:UTC
DTSTART:20180101T000000
END:STANDARD
END:VTIMEZONE
BEGIN:VEVENT
DTSTART;VALUE=DATE:20191005
DTEND;VALUE=DATE:20191006
DTSTAMP:20260424T183717
CREATED:20190414T000059Z
LAST-MODIFIED:20190728T094147Z
UID:12360-1570233600-1570319999@www.pls.lu
SUMMARY:Charity Dinner - Gala 2019
DESCRIPTION:When: 5th October 2019 \nWhere: FNEL\, 61A\, rue de Trèves\, L-2630 Luxembourg \n“Together today for a brighter future tomorrow” \nJoin us for our PLS Gala Diner on 5th October 2019 at 18h00 for an evening of Filipino culture and food and an update on the PLS’ projects in the Philippines. \nTo reserve your ticket (70€)\, please contact Cecille Hurst / Andreia Martins: info@pls.lu
URL:https://www.pls.lu/event/charity-dinner-gala-2019/
LOCATION:FNEL\, 61A\, rue de Trèves\, Luxembourg\, 2630\, Luxembourg
ATTACH;FMTTYPE=image/jpeg:https://www.pls.lu/wp-content/uploads/2019/04/Poster.jpg
END:VEVENT
END:VCALENDAR