BEGIN:VCALENDAR
VERSION:2.0
PRODID:-//PLS - ECPv6.15.17.1//NONSGML v1.0//EN
CALSCALE:GREGORIAN
METHOD:PUBLISH
X-WR-CALNAME:PLS
X-ORIGINAL-URL:https://www.pls.lu
X-WR-CALDESC:Events for PLS
REFRESH-INTERVAL;VALUE=DURATION:PT1H
X-Robots-Tag:noindex
X-PUBLISHED-TTL:PT1H
BEGIN:VTIMEZONE
TZID:UTC
BEGIN:STANDARD
TZOFFSETFROM:+0000
TZOFFSETTO:+0000
TZNAME:UTC
DTSTART:20210101T000000
END:STANDARD
END:VTIMEZONE
BEGIN:VEVENT
DTSTART;TZID=UTC:20221202T080000
DTEND;TZID=UTC:20221202T170000
DTSTAMP:20260424T183716
CREATED:20221221T120021Z
LAST-MODIFIED:20221221T120021Z
UID:12574-1669968000-1670000400@www.pls.lu
SUMMARY:Christmas Market Bus Trip
DESCRIPTION:What a great day at the Christmas market in Aaachen. \nAfter a fun bus ride\, accompanied by Christmas carols\, Filipino food as well as a tombola\, our members enjoyed a full day of exploring and tasting the famous Christmas market in Aaachen. \nA big thank you to all those who attended. All the benefits of the bus trip and the tombola will go to our project at the Gerona North Central Elementary School Special Education class. \n 
URL:https://www.pls.lu/event/christmas-market-bus-trip-2/
ATTACH;FMTTYPE=image/jpeg:https://www.pls.lu/wp-content/uploads/2022/12/aachen_xmas.jpg
END:VEVENT
END:VCALENDAR