BEGIN:VCALENDAR
VERSION:2.0
PRODID:-//PLS - ECPv4.6.6//NONSGML v1.0//EN
CALSCALE:GREGORIAN
METHOD:PUBLISH
X-WR-CALNAME:PLS
X-ORIGINAL-URL:https://www.pls.lu
X-WR-CALDESC:Events for PLS
BEGIN:VEVENT
DTSTART;VALUE=DATE:20190601
DTEND;VALUE=DATE:20190602
DTSTAMP:20201209T034000
CREATED:20190414T072615Z
LAST-MODIFIED:20190414T173121Z
UID:12007-1559347200-1559433599@www.pls.lu
SUMMARY:PLS Running Team – ING Night Marathon 2019
DESCRIPTION:The PLS Running Team has participated in the ING Night Marathon in Luxembourg for the past 6 years. We started with just 4 runners at the beginning and reached 37 runners in 2016. \nWant to join us and help us raise awareness about our amazing projects to help kids get an education in the Philippines? \nThen sign up and register today (www.ing-night-marathon.lu). Let us know and we will make sure you get your own PLS running t-shirt. \nIt doesn’t matter if you run the full marathon\, semi-marathon\, team run or 5k for success. The more runners we are\, the more fun it is and the more people will know about the great work we do. \nFor more info\, please do not hesitate to contact us. \n
URL:https://www.pls.lu/event/ing2019/
LOCATION:10 Circuit de La Foire Internationale\, Luxembourg\, 1347\, Luxembourg
ATTACH;FMTTYPE=image/jpeg:https://www.pls.lu/wp-content/uploads/2016/06/39.jpg
END:VEVENT
END:VCALENDAR